BEGIN:VCALENDAR
VERSION:2.0
PRODID:-//Stadtgeschichte München//DE
CALSCALE:GREGORIAN
BEGIN:VEVENT
UID:26652@stadtgeschichte-muenchen.de
SUMMARY:Wahrzeichen der Altstadt: Altes Rathaus und Alter Peter
DESCRIPTION:&lt;p&gt;Das Alte Rathaus, vom damaligen &quot;Star-Architekten&quot; Ganghofer im 15. Jahrhundert im spätgotischen Stil neu erbaut, war jahrhundertelang der politisch-administrative Mittelpunkt der Stadt und diente über die Zeit unterschiedlichsten Nutzungszwecken, etwa als Stadtgericht, Schergenstube, Tanz-, Tuch- oder Brothaus. Nur einen Steinwurf entfernt befindet sich die älteste Pfarrkirche Münchens, der Alte Peter. Dieser Online-Vortrag stellt Ihnen mit Detail-Aufnahmen (und ohne Gefahr einer Genickstarre) die beiden Wahrzeichen der Münchner Altstadt vor.&lt;/p&gt;
DTSTART:20251121T170000
DTEND:20251121T180000
LOCATION:
ORGANIZER:MVHS
END:VEVENT
END:VCALENDAR