BEGIN:VCALENDAR
VERSION:2.0
PRODID:-//Stadtgeschichte München//DE
CALSCALE:GREGORIAN
BEGIN:VEVENT
UID:26653@stadtgeschichte-muenchen.de
SUMMARY:Wahrzeichen der Altstadt: Neues Rathaus und Mariensäule
DESCRIPTION:&lt;p&gt;Nicht nur ein Lindwurm, Löwen und das Münchner Kindl sind an der Fassade des Neuen Rathauses zu finden. Verewigt wurden dort auch - einem steinernen Geschichtsbuch gleich - viele bayerische Regenten. Der Online-Vortrag nimmt sich Zeit für eine eingehende Betrachtung der Fassade dieses Baus, der prominent im Herzen der Stadt steht – und der bei genauerem Hinsehen erstaunliche Details preisgibt. Erfahren Sie mehr über die dargestellten Herrscher und ihre Lebensleistungen und auch über die nur wenige Meter entfernte Mariensäule und ihre Geschichte.&lt;/p&gt;
DTSTART:20260227T170000
DTEND:20260227T180000
LOCATION:
ORGANIZER:MVHS
END:VEVENT
END:VCALENDAR