BEGIN:VCALENDAR
VERSION:2.0
PRODID:-//Stadtgeschichte München//DE
CALSCALE:GREGORIAN
BEGIN:VEVENT
UID:26657@stadtgeschichte-muenchen.de
SUMMARY:Vergessene Münchnerinnen
DESCRIPTION:&lt;p&gt;Der Alte Südfriedhof wird gerne als Geschichtsbuch Münchens bezeichnet, allerdings ist es ein sehr männliches Buch: Auf den meisten Grabmälern sind Frauen nur als Gattin, Tochter oder Witwe genannt, wie die &quot;Rentierstochter&quot; oder die &quot;Hofpianofortefabrikantenswitwe&quot;. Bei einem winterlichen Online-Spaziergang entdecken Sie verschneite Grabstätten und lernen Frauen näher kennen, die mehr waren: geistvolle, erfolgreiche, mutige Frauen, die für München (frauen)politisch, sozial, wirtschaftlich und künstlerisch mehr als bedeutsam waren.&lt;/p&gt;
DTSTART:20260116T173000
DTEND:20260116T190000
LOCATION:
ORGANIZER:MVHS
END:VEVENT
END:VCALENDAR