BEGIN:VCALENDAR
VERSION:2.0
PRODID:-//Stadtgeschichte München//DE
CALSCALE:GREGORIAN
BEGIN:VEVENT
UID:26658@stadtgeschichte-muenchen.de
SUMMARY:Frauen der &quot;Stunde Null?&quot;
DESCRIPTION:&lt;p&gt;Welche Frauen engagierten sich nach 1945 für eine demokratische Gesellschaft? In diesem Online-Vortrag lernen Sie einige dieser wichtigen Wegbereiterinnen und ihre Lebensleistungen kennen, etwa Jella Lepman, Hildegard Hamm-Brücher, Eleonore Romberg, Resi Huber oder Ilse Weitsch. Dabei lernen Sie auch die Aktion &quot;Schaumalfrau&quot; kennen, die mit Schaufensterplakaten im Münchner Stadtraum diesen Personen heute als &quot;Schau-Mäler&quot; – in Ermangelung von &quot;Denk-Mälern&quot; – mehr öffentliche Sichtbarkeit verleihen möchte.&lt;/p&gt;
DTSTART:20260211T173000
DTEND:20260211T190000
LOCATION:
ORGANIZER:MVHS
END:VEVENT
END:VCALENDAR