BEGIN:VCALENDAR
VERSION:2.0
PRODID:-//Stadtgeschichte München//DE
CALSCALE:GREGORIAN
BEGIN:VEVENT
UID:26660@stadtgeschichte-muenchen.de
SUMMARY:Die Landeshauptstadt München und ihre Partnerstädte
DESCRIPTION:&lt;p&gt;Von Bordeaux bis Kyiv, von Edinburgh bis Harare – welche der acht Partnerstädte Münchens kennen Sie? Seit 1954 pflegt die Stadt weltweite Verbindungen – gedacht als Zeichen der Versöhnung nach dem Krieg. Inzwischen herrscht in einigen dieser Städte Not und sogar Krieg. Zeit, genauer hinzusehen: Was verbindet, was trennt, wie werden die Partnerschaften gelebt? Und was haben eine stark polierte Dame aus Bronze, ein Weinstock in Haidhausen und ein Teehaus damit zu tun? Sie sehen: Es gibt mehr, als man auf Anhieb weiß – und spannend ist es auch!&lt;/p&gt;
DTSTART:20251120T173000
DTEND:20251120T190000
LOCATION:
ORGANIZER:MVHS
END:VEVENT
END:VCALENDAR