BEGIN:VCALENDAR
VERSION:2.0
PRODID:-//Stadtgeschichte München//DE
CALSCALE:GREGORIAN
BEGIN:VEVENT
UID:26670@stadtgeschichte-muenchen.de
SUMMARY:Ernährung und Verpflegung im KZ Dachau
DESCRIPTION:&lt;p&gt;Im Konzentrationslager Dachau war die Ernährungssituation über die zwölf Jahre seines Bestehens sehr unterschiedlich. Während die Kalorienmengen anfangs noch ausreichten, konnte in den späteren Jahren aus einem durchschnittlich ernährten Menschen in kurzer Zeit ein ausgemergelter, ständig an Essen denkender, unter- und mangelernährter Häftling werden. Der Rundgang beleuchtet die Intentionen der Täter und die Folgen der Mangel- und Fehlernährung auf die seelische und körperliche Verfassung der Gefangenen.&lt;/p&gt;
DTSTART:20251122T140000
DTEND:20251122T160000
LOCATION:
ORGANIZER:MVHS
END:VEVENT
END:VCALENDAR