BEGIN:VCALENDAR
VERSION:2.0
PRODID:-//Stadtgeschichte München//DE
CALSCALE:GREGORIAN
BEGIN:VEVENT
UID:26674@stadtgeschichte-muenchen.de
SUMMARY:Hartmannshofen und der Moosacher Anzeiger
DESCRIPTION:&lt;p&gt;Im Nordwesten Münchens lag einst ein Weiler an einer Quelle. Kurfürstin Adelaide von Savoyen erwarb 1666 diese Einöde im Zuge des Baus von Schloss Nymphenburg. Ihr Sohn, Kurfürst Max Emanuel, ließ dort 1717 eine Fasanerie zur Aufzucht von Gold- und Silberfasanen einrichten, die erst 1914 eingestellt wurde. Nach dem Ersten Weltkrieg gab der Bayerische Staat Flächen der ehemaligen Fasanerie für Kleinhauswohnanlagen ab. Ein Film über die Gründung von Hartmannshofen bis zur dortigen Geburt des &quot;Moosacher Anzeigers&quot;.&amp;nbsp;&lt;/p&gt;&lt;p&gt;In Kooperation mit dem Geschichtsverein Moosach e.V.&lt;/p&gt;
DTSTART:20251120T180000
DTEND:20251120T190000
LOCATION:MVHS in Moosach Baubergerstr. 6a
ORGANIZER:MVHS
END:VEVENT
END:VCALENDAR