BEGIN:VCALENDAR
VERSION:2.0
PRODID:-//Stadtgeschichte München//DE
CALSCALE:GREGORIAN
BEGIN:VEVENT
UID:26675@stadtgeschichte-muenchen.de
SUMMARY:Das Botanikum: eine Besonderheit in Moosach
DESCRIPTION:&lt;p&gt;Seit den 1930er Jahren ist das Botanikum in Famlienbesitz. Aus einer Gärtnerei für Gemüse entwickelte sich eine Blumengärtnerei mit Zweigstelle in Italien. Wirtschaftliche Konkurrenz zwang zu kreativen Maßnahmen: Heinrich und Bettina Bunzel schufen ein einzigartiges Kunst-Biotop, ein Miteinander von Pflanzen, Gewerbe und Kunst. Der Vortrag zeigt die verschiedenen Facetten dieses einmaligen Ortes bis zu seiner Schließung im Herbst 2024.&lt;/p&gt;&lt;p&gt;In Kooperation mit dem Geschichtsverein Moosach e.V.&lt;br&gt;Im Rahmen der Vortragsreihe &quot;Montags in Moosach&quot;.&lt;/p&gt;
DTSTART:20260202T190000
DTEND:20260202T203000
LOCATION:MVHS in Moosach Baubergerstr. 6a
ORGANIZER:MVHS
END:VEVENT
END:VCALENDAR