BEGIN:VCALENDAR
VERSION:2.0
PRODID:-//Stadtgeschichte München//DE
CALSCALE:GREGORIAN
BEGIN:VEVENT
UID:26682@stadtgeschichte-muenchen.de
SUMMARY:Moosach: bunt – sozial – nachhaltig – zukunftsgewandt
DESCRIPTION:&lt;p&gt;Was ist im Sanierungsgebiet Moosach geplant? Was ist eigentlich Stadtsanierung? Erfahren Sie, was sich in Ihrem Stadtteil bereits verändert hat und was für die Zukunft noch geplant ist. Das Stadtteilmanagement stellt aktuelle Projekte und Schwerpunkte der Stadtsanierung vor. Die Entwicklung des Stadtteils wird von der Landeshauptstadt München umgesetzt und aus dem Bund-Länder-Kommunen-Programm „Sozialer Zusammenhalt“ gefördert. In Kooperation mit der MGS Münchner Gesellschaft für Stadterneuerung mbH.&lt;/p&gt;
DTSTART:20251126T183000
DTEND:20251126T193000
LOCATION:MVHS in Moosach Baubergerstr. 6a
ORGANIZER:MVHS
END:VEVENT
END:VCALENDAR