BEGIN:VCALENDAR
VERSION:2.0
PRODID:-//Stadtgeschichte München//DE
CALSCALE:GREGORIAN
BEGIN:VEVENT
UID:26684@stadtgeschichte-muenchen.de
SUMMARY:KI in Fahrzeugen - individuelle Mobilität neu denken
DESCRIPTION:&lt;p&gt;Unsere Mobilität verändert sich momentan grundlegend durch Software, digitale Systeme und künstliche Intelligenz (KI). Diese Technologien ermöglichen nicht nur eine effizientere Verkehrssteuerung, verbesserte Routenplanung und personalisierte Nutzeranwendungen, sondern erhöhen die Sicherheit, reduzieren Staus und optimieren den Energieverbrauch, was zu einer nachhaltigeren Mobilität führt. Nach einem Vortrag zeigt Ihnen Torsten Julich in der Praxis, anhand eines Serienfahrzeugs von BMW, wie Software gestützte Systeme schon heute für Fahrmanöver im Alltag genutzt werden.&lt;/p&gt;
DTSTART:20251022T180000
DTEND:20251022T193000
LOCATION:Am Hart MVHS Troppauer Str. 10
ORGANIZER:MVHS
END:VEVENT
END:VCALENDAR