BEGIN:VCALENDAR
VERSION:2.0
PRODID:-//Stadtgeschichte München//DE
CALSCALE:GREGORIAN
BEGIN:VEVENT
UID:26688@stadtgeschichte-muenchen.de
SUMMARY:Seniorenresidenz Augustinum Nord
DESCRIPTION:&lt;p&gt;In der Seniorenresidenz Augustinum München-Nord gestaltet man das Leben im Alter ganz nach seinen eigenen Vorstellungen. Man wohnt in einer Wohnung, die ungestörte Privatsphäre garantiert, und lebt doch in einer Gemeinschaft, die unzählige Anregungen bietet: Park, Schwimmbad, Kulturprogramm, Kulinarik. Nach einer Begrüßung im Theatersaal gehen Sie auf Entdeckungsreise durch das Haus und besichtigen auch eine der Wohnungen.&lt;/p&gt;
DTSTART:20251106T140000
DTEND:20251106T153000
LOCATION:Augustinum Seniorenresidenz München-Nord Weitlstr. 66
ORGANIZER:MVHS
END:VEVENT
END:VCALENDAR