BEGIN:VCALENDAR
VERSION:2.0
PRODID:-//Stadtgeschichte München//DE
CALSCALE:GREGORIAN
BEGIN:VEVENT
UID:26690@stadtgeschichte-muenchen.de
SUMMARY:Autobahnmeisterei München-Nord der Autobahn Südbayern
DESCRIPTION:&lt;p&gt;&quot;Achtung! Gefahrenmeldung! Auf der A9 zwischen Freimann und Fröttmaning liegt ein Fahrrad auf der rechten Spur.&quot; - eine alltägliche Radiomeldung. Aber wie kommt das Fahrrad wieder von der Autobahn? Was macht ein Räumfahrzeug im Sommer? Und was gibt es sonst noch alles auf der Autobahn zu tun, damit wir sicher von A nach B kommen? Spannende Antworten liefert der eindrucksvolle Blick hinter die Kulissen der Autobahnmeisterei München-Nord der Autobahn Südbayern.&lt;/p&gt;
DTSTART:20251111T143000
DTEND:20251111T163000
LOCATION:U6 Kieferngarten
ORGANIZER:MVHS
END:VEVENT
END:VCALENDAR