BEGIN:VCALENDAR
VERSION:2.0
PRODID:-//Stadtgeschichte München//DE
CALSCALE:GREGORIAN
BEGIN:VEVENT
UID:26693@stadtgeschichte-muenchen.de
SUMMARY:Grauslige – Greißliche G´schichten Tour
DESCRIPTION:&lt;p&gt;Was bietet sich vor Halloween besser an als unsere “Grauslige -greißliche” Geschichten Tour? Für alle Gruselwütigen unter euch: wollt ihr das unheimlichste Bild ganz Münchens sehen? Wollt ihr erfahren, wo sich heute noch geisterhafte Erscheinungen in München beobachten lassen und wo man Relikte eines blutigen Spuks finden kann? Dann begleitet uns auf unserer Stadtführung &quot;Grauslig-greißliche G´schichten&quot;&amp;nbsp;&lt;/p&gt;
DTSTART:20251031T140000
DTEND:20251031T160000
LOCATION:Stachus Karlsplatz
ORGANIZER:Die Stadtdetektive  - Stadtführungen für Kinder und Erwachsene
END:VEVENT
END:VCALENDAR