BEGIN:VCALENDAR
VERSION:2.0
PRODID:-//Stadtgeschichte München//DE
CALSCALE:GREGORIAN
BEGIN:VEVENT
UID:26695@stadtgeschichte-muenchen.de
SUMMARY:Gut gebrüllt, Löwe!
DESCRIPTION:&lt;p&gt;Habt ihr Lust mit uns - noch einmal bevor das Christkind kommt - durch die Stadt zu streifen? Wir versprechen:&lt;/p&gt;&lt;ul&gt;&lt;li&gt;es wird sehr weihnachtlich (meistens),&lt;/li&gt;&lt;li&gt;ein bisschen gruselig (hin und wieder) und&lt;/li&gt;&lt;li&gt;unerhört spannend (immer)!&lt;/li&gt;&lt;/ul&gt;&lt;p&gt;Probiert es aus: wir starten am Fr. 19. Dezember 2025 um 14.00h. Anmeldung und weitere Infos unter www.stadtdetektive.com&lt;/p&gt;
DTSTART:20251219T140000
DTEND:20251219T160000
LOCATION:Sendlinger Tor
ORGANIZER:Die Stadtdetektive  - Stadtführungen für Kinder und Erwachsene
END:VEVENT
END:VCALENDAR