BEGIN:VCALENDAR
VERSION:2.0
PRODID:-//Stadtgeschichte München//DE
CALSCALE:GREGORIAN
BEGIN:VEVENT
UID:26712@stadtgeschichte-muenchen.de
SUMMARY:Technisches Betriebszentrum mit Verkehrsleitzentrale
DESCRIPTION:&lt;p&gt;In München sind 95.000 Straßenlampen, 1.100 Ampelanlagen und 4.450 Parkscheinautomaten in Betrieb und rund eine Million Schilder regeln den Verkehr. Die Führung zeigt, wie diese Verkehrsinfrastruktur in einer Großstadt möglichst reibungslos funktioniert. Damit dies auch in Zukunft so bleibt, wird die Verkehrsleittechnik mit modernsten Systemen unterstützt. Erfahren Sie, an welchen Pilotprojekten gerade gearbeitet wird und welche Anwendungsmöglichkeiten es zukünftig geben wird.&lt;/p&gt;
DTSTART:20251120T160000
DTEND:20251120T180000
LOCATION:Technisches Betriebszentrum, vor dem Tor im Foyer Schragenhofstr. 6
ORGANIZER:MVHS
END:VEVENT
END:VCALENDAR