BEGIN:VCALENDAR
VERSION:2.0
PRODID:-//Stadtgeschichte München//DE
CALSCALE:GREGORIAN
BEGIN:VEVENT
UID:26725@stadtgeschichte-muenchen.de
SUMMARY:Der Prinz Eugen Park – ein zukunftstaugliches Mobilitäts- und Wohnkonzept im Quartier
DESCRIPTION:&lt;p&gt;Im gesamten Wohnquartier, inklusive der mehrfach ausgezeichneten ökologischen Mustersiedlung in Holz-Hybrid-Bauweise, setzt man auf Nachhaltigkeit und eine ökologisch und wirtschaftlich vertretbare Energienutzung samt der Umsetzung eines umfassenden und zukunftstauglichen Mobilitätskonzepts mit stationärem Carsharing, ÖPNV-Angeboten, flexiblem Parkraummanagement in den Tiefgaragen, dezentralen E-Ladestationen für Pkw, Zweiräder sowie einem Verleihservice für Fortbewegungsmittel. Wohnen und Leben mit hoher Lebensqualität!&lt;/p&gt;&lt;p&gt;Für die verbesserte Hörqualität steht vor Ort das Hörfunksystem zur Verfügung.&lt;br&gt;In Kooperation mit der MÜNCHENSTIFT.&lt;/p&gt;
DTSTART:20251118T113000
DTEND:20251118T130000
LOCATION:Trambahnhaltestelle Prinz-Eugen-Park, stadtauswärts
ORGANIZER:MVHS
END:VEVENT
END:VCALENDAR