BEGIN:VCALENDAR
VERSION:2.0
PRODID:-//Stadtgeschichte München//DE
CALSCALE:GREGORIAN
BEGIN:VEVENT
UID:26726@stadtgeschichte-muenchen.de
SUMMARY:Alles über Falschgeld
DESCRIPTION:&lt;p&gt;Die Fallzahlen sprechen eine deutliche Sprache: Die Falschgeldkriminalität in München bleibt auf sehr hohem Niveau. &quot;Movie Money&quot;, &quot;Prop Copy&quot; oder &quot;Hochzeitsgeld&quot; nennt man Nachbildungen von Banknoten, die im Internet leicht erhältlich und somit schnell in Umlauf zu bringen sind. Die Informationsveranstaltung des Bayerischen Kriminalamts zeigt Situationen auf, in denen Sie mit Falschgeld in Berührung kommen, erklärt, wie Sie falsche Banknoten erkennen und was Sie beim Erhalt von Falschgeld tun können. Sie erfahren auch, warum mehr Falschgeld im Umlauf ist und welche Scheine oft gefälscht werden.&lt;/p&gt;
DTSTART:20260129T153000
DTEND:20260129T173000
LOCATION:MVHS Rosenkavalierplatz 16
ORGANIZER:MVHS
END:VEVENT
END:VCALENDAR