BEGIN:VCALENDAR
VERSION:2.0
PRODID:-//Stadtgeschichte München//DE
CALSCALE:GREGORIAN
BEGIN:VEVENT
UID:26736@stadtgeschichte-muenchen.de
SUMMARY:Besuch des Sikh-Tempels Gurdwara Sri Guru Nanak Sabha
DESCRIPTION:&lt;p&gt;Beim Besuch erleben Sie die spirituelle Praxis der Sikhs, die auf den Werten der Gleichheit, Gemeinschaft und Toleranz basiert. Während der Führung erfahren Sie mehr über die Geschichte des Sikhismus, die Bedeutung der Gebetshalle und das Prinzip des &quot;Langar&quot; – der kostenlosen Gemeinschaftsmahlzeit. Sie bekommen einen Einblick in die religiösen Praktiken der Sikh-Gemeinschaft und lernen den Tempel als Ort der Andacht kennen.&lt;/p&gt;&lt;p&gt;Bitte achten Sie auf das Tragen einer Kopfbedeckung (Schal, keine Hüte oder Caps) beim Betreten des Tempels.&lt;/p&gt;
DTSTART:20251121T110000
DTEND:20251121T123000
LOCATION:Sikh-Tempel: Gurdwara Sri Guru Nanak Sabha Neumarkter Str. 70
ORGANIZER:MVHS
END:VEVENT
END:VCALENDAR