BEGIN:VCALENDAR
VERSION:2.0
PRODID:-//Stadtgeschichte München//DE
CALSCALE:GREGORIAN
BEGIN:VEVENT
UID:26751@stadtgeschichte-muenchen.de
SUMMARY:St. Maria Ramersdorf – eine der ältesten Wallfahrtskirchen in München
DESCRIPTION:&lt;p&gt;St. Maria Ramersdorf ist neben Altötting der älteste und bedeutendste Wallfahrtsort Bayerns. Durch die Schenkung einer Kreuzreliquie 1360 durch den Sohn Kaiser Ludwigs des Bayern erfuhr St. Maria Ramersdorf eine enorme Aufwertung. Weiteres Kleinod der Kirche ist der Kreuzaltar, ein Gemeinschaftswerk des Bildhauers Erasmus Grasser und des Malers Jan Polack. Bei der Führung besteht die seltene Gelegenheit, die kostbare Kreuzreliquie aus nächster Nähe und den Kreuzaltar in geschlossenem Zustand zu betrachten.&lt;/p&gt;
DTSTART:20260221T140000
DTEND:20260221T153000
LOCATION:Kircheneingang St. Maria Ramersdorf Aribonenstr. 9
ORGANIZER:MVHS
END:VEVENT
END:VCALENDAR