BEGIN:VCALENDAR
VERSION:2.0
PRODID:-//Stadtgeschichte München//DE
CALSCALE:GREGORIAN
BEGIN:VEVENT
UID:26796@stadtgeschichte-muenchen.de
SUMMARY:Führung durch das Münchner Rathaus mit einer Stadträtin
DESCRIPTION:&lt;p&gt;Im neugotischen Neuen Rathaus am Marienplatz tagt der Münchner Stadtrat, hier haben Oberbürgermeister und Bürgermeister*innen ihre Büros und die Stadtverwaltung ihren Hauptsitz. Seit 2020 ist Micky Wenngatz Stadträtin der SPD-Fraktion. In dieser Führung informiert sie über ihre Arbeit und die Abläufe im Stadtrat, über aktuelle Themen und wie die Interessen der Bürger*innen im Münchner Süden in Stadtratsbeschlüsse Eingang finden. Beim Rundgang durch das Rathaus lernen Sie die Orte der Stadtratsarbeit und das historische Gebäude kennen.&lt;/p&gt;
DTSTART:20251119T150000
DTEND:20251119T170000
LOCATION:Rathaus Marienplatz, vor der Pforte beim Fischbrunnen Marienplatz 8
ORGANIZER:MVHS
END:VEVENT
END:VCALENDAR