BEGIN:VCALENDAR
VERSION:2.0
PRODID:-//Stadtgeschichte München//DE
CALSCALE:GREGORIAN
BEGIN:VEVENT
UID:26806@stadtgeschichte-muenchen.de
SUMMARY:Die Alte Utting
DESCRIPTION:&lt;p&gt;Das gemütliche Ammerseeschiff &quot;MS Utting&quot; ankert seit 2017 auf einer Sendlinger Eisenbahnbrücke. Auf die spektakuläre Überführung folgte ein aufwändiger Umbau. Heute bietet das Sonnendeck einen fantastischen Blick über Münchens Häusermeer, es gibt kulturelle und kulinarische Leckerbissen, Salons und Piratenbucht laden zum Verweilen ein. Wer am Ruder steht, kann schon mal vergessen, dass München keinen Hafen hat. Ausgedacht von Daniel Hahn und Wannda e.V. erhielt das junge Kulturprojekt auch international viel Beachtung.&lt;/p&gt;
DTSTART:20260207T140000
DTEND:20260207T151500
LOCATION:Thalkirchner-/Ecke Lagerhausstr.
ORGANIZER:MVHS
END:VEVENT
END:VCALENDAR