BEGIN:VCALENDAR
VERSION:2.0
PRODID:-//Stadtgeschichte München//DE
CALSCALE:GREGORIAN
BEGIN:VEVENT
UID:26823@stadtgeschichte-muenchen.de
SUMMARY:Zivilcourage und Selbstsicherheit für Ältere
DESCRIPTION:&lt;p&gt;Fast jeden Tag werden Nachrichten von gefährlichen Situationen oder Übergriffen bekannt und nicht selten gehen Passant*innen vorbei, ohne zu helfen. Viele haben Angst das Falsche zu tun. Der Kurs gibt wichtige Tipps zur Selbstsicherheit, um Situationen besser einzuschätzen und beantwortet die Frage, wie ich mir oder anderen helfen kann, ohne mich selbst in Gefahr zu bringen. Den Teilnehmenden wird außerdem anschaulich vermittelt, wie man auf Gefahrensituationen, unter anderem im öffentlichen Nahverkehr, reagieren kann.&lt;/p&gt;&lt;p&gt;In Kooperation mit der Polizeiinspektion 41 und der Sicherheitsberatung des Seniorenbeirates München.&lt;/p&gt;
DTSTART:20251202T130000
DTEND:20251202T163000
LOCATION:MVHS Guardinistr. 90
ORGANIZER:MVHS
END:VEVENT
END:VCALENDAR