BEGIN:VCALENDAR
VERSION:2.0
PRODID:-//Stadtgeschichte München//DE
CALSCALE:GREGORIAN
BEGIN:VEVENT
UID:26824@stadtgeschichte-muenchen.de
SUMMARY:Besuch im Klinikum der Universität München, Campus Großhadern
DESCRIPTION:&lt;p&gt;Erleben Sie das LMU Klinikum, eines der größten Universitätsklinika in Deutschland und Europa, bei einer spannenden Tour. Seit über 50 Jahren steht der Campus Großhadern für Innovation und Fortschritt in den Bereichen Forschung, Lehre und Patientenversorgung. Sie erhalten bei der Führung interessante Einblicke in die Strukturen und Abläufe des Klinikums. Unser Weg durch das Klinikum führt von der Patienten-, Besucher- und Versorgungsstraße im Bettenhaus bis hin zu einem der neuesten Gebäude am Campus Großhadern - dem hochmodernen OP-Zentrum.&lt;/p&gt;
DTSTART:20260121T160000
DTEND:20260121T173000
LOCATION:
ORGANIZER:MVHS
END:VEVENT
END:VCALENDAR