BEGIN:VCALENDAR
VERSION:2.0
PRODID:-//Stadtgeschichte München//DE
CALSCALE:GREGORIAN
BEGIN:VEVENT
UID:26832@stadtgeschichte-muenchen.de
SUMMARY:Das rumänisch-orthodoxe Kirchenzentrum
DESCRIPTION:&lt;p&gt;In Aubing gibt es seit 2021 ein rumänisch-orthodoxes Zentrum für Deutschland. Es besteht aus einer Kirche für ca. 200 Personen, dem Bischofssitz mit Kloster und einem Gemeindezentrum mit Bibliothek, einem Klosterladen, Unterkünften für Pilgernde sowie Gemeinschaftsräumen. Bei unserem Rundgang besichtigen Sie dieses und erfahren von Weihbischof Sofian Interessantes über das Gemeindeleben vor Ort.&lt;/p&gt;
DTSTART:20251021T173000
DTEND:20251021T183000
LOCATION:vor dem rumänisch-orthodoxen Kirchenzentrum Kastelburgstr. 88
ORGANIZER:MVHS
END:VEVENT
END:VCALENDAR