BEGIN:VCALENDAR
VERSION:2.0
PRODID:-//Stadtgeschichte München//DE
CALSCALE:GREGORIAN
BEGIN:VEVENT
UID:26840@stadtgeschichte-muenchen.de
SUMMARY:Stadtteilspaziergang: Urbanes Wohnen neu gedacht
DESCRIPTION:&lt;p&gt;In Freiham werden innovative Wohnkonzepte praktisch umgesetzt. Dabei nutzen die Bewohner*innen verschiedene Flächen gemeinsam wie z.B. Werkstatt, Co-Working-Space oder Waschsalon und folgen einer solidarischen Idee von urbanem Wohnen. Wir öffnen beispielhaft die Türen einer Wohngenossenschaft und zeigen Ihnen weitere Besonderheiten des Projekts, u.a. die nachhaltige Bauweise und Energieversorgung der Gebäude, das Mobilitätskonzept und die gelebte Inklusion vor Ort. Zudem ist ein Einblick in die Strukturen des neuen Quartierszentrums von Freiham geplant. Um Anmeldung wird gebeten.&lt;/p&gt;&lt;p&gt;In Kooperation mit dem Stadtteilmanagement Freiham und der Progeno Wohnungsgenossenschaft eG&lt;/p&gt;
DTSTART:20251030T160000
DTEND:20251030T180000
LOCATION:
ORGANIZER:MVHS
END:VEVENT
END:VCALENDAR