BEGIN:VCALENDAR
VERSION:2.0
PRODID:-//Stadtgeschichte München//DE
CALSCALE:GREGORIAN
BEGIN:VEVENT
UID:26841@stadtgeschichte-muenchen.de
SUMMARY:Hier wächst Bildung – ein Blick in das neue MVHS-Zentrum Freiham
DESCRIPTION:&lt;p&gt;Die Münchner Volkshochschule kommt nach Freiham! Noch vor der offiziellen Eröffnung laden wir Sie zu einem geführten Rundgang durch unseren zukünftigen Standort ein. Erleben Sie exklusiv, wie Bildung in Freiham bald aussehen wird: moderne Kursräume, innovative Lernbereiche und ein Ort der Begegnung für alle Generationen. Bei dieser Führung erhalten Sie spannende Einblicke in die Architektur, das Raumkonzept und das Angebot vor Ort. Nutzen Sie diese Gelegenheit für einen Blick hinter die Kulissen!&lt;/p&gt;
DTSTART:20250919T160000
DTEND:20250919T170000
LOCATION:Amalie-Nacken-Straße 9
ORGANIZER:MVHS
END:VEVENT
END:VCALENDAR