BEGIN:VCALENDAR
VERSION:2.0
PRODID:-//Stadtgeschichte München//DE
CALSCALE:GREGORIAN
BEGIN:VEVENT
UID:26863@stadtgeschichte-muenchen.de
SUMMARY:Die Landshuter Allee
DESCRIPTION:&lt;p&gt;Seit mehr als 160 Jahren trennt die Landshuter Allee den Stadtteil Neuhausen in einen Ost- und einen Westteil. Ursprünglich eine Bahntrasse, ist die Straße nun Teil des Mittleren Ringes. Der Geschichte, den politischen, sozialen, wirtschaftlichen und gesellschaftlichen Entwicklungen und den Besonderheiten dieses Straßenzuges wird nachgegangen.&lt;/p&gt;&lt;p&gt;In Zusammenarbeit mit der Geschichtswerkstatt Neuhausen e. V.&lt;/p&gt;
DTSTART:20260202T180000
DTEND:20260202T193000
LOCATION:MVHS Nymphenburger Str. 171b
ORGANIZER:MVHS
END:VEVENT
END:VCALENDAR