BEGIN:VCALENDAR
VERSION:2.0
PRODID:-//Stadtgeschichte München//DE
CALSCALE:GREGORIAN
BEGIN:VEVENT
UID:26872@stadtgeschichte-muenchen.de
SUMMARY:Schau mal - Frauen der Stunde Null
DESCRIPTION:&lt;p&gt;Welche Persönlichkeiten gestalteten in den ersten Jahren der Bundesrepublik Deutschland die Gesellschaft mit? Was waren ihre Ziele und Erfolge? Die Historikerin Adelheid Schmidt-Thomé stellt in ihrem Vortrag einige Münchner Frauen, ihr Leben und ihr Wirken vor, etwa das von Jella Lepman, Hildegard Hamm-Brücher, Ilse Weitsch, Therese Giehse und weiteren.&lt;/p&gt;
DTSTART:20251010T180000
DTEND:20251010T193000
LOCATION:MVHS Bäckerstr. 14
ORGANIZER:MVHS
END:VEVENT
END:VCALENDAR