BEGIN:VCALENDAR
VERSION:2.0
PRODID:-//Stadtgeschichte München//DE
CALSCALE:GREGORIAN
BEGIN:VEVENT
UID:26873@stadtgeschichte-muenchen.de
SUMMARY:Mit gutem Gefühl in unserem Stadtviertel unterwegs
DESCRIPTION:&lt;p&gt;In diesem interaktiven Workshop wird den Teilnehmenden die Möglichkeit gegeben, das eigene Erleben des öffentlichen Raums zu erkunden und sich untereinander über Erfahrungen im öffentlichen Raum auszutauschen. Abschließend werden gemeinsam konkrete Handlungsmöglichkeiten erarbeitet, um mit gutem Gefühl in unserer Stadt unterwegs zu sein.&amp;nbsp;&amp;nbsp;&lt;/p&gt;&lt;p&gt;Der Workshop wird von AKIM, Allparteiliches Konfliktmanagement in München, angeboten. Diese Stabsstelle des Sozialreferats leistete Pionierarbeit. Sie setzt sich seit zehn Jahren stadtweit für ein gutes Miteinander im öffentlichen Raum ein und fungiert deutschlandweit als Fach- und Vernetzungsstelle.&lt;/p&gt;&lt;p&gt;In Kooperation mit dem Sozialreferat der Landeshauptstadt München.&lt;/p&gt;
DTSTART:20251119T190000
DTEND:20251119T203000
LOCATION:MVHS Bäckerstr. 14
ORGANIZER:MVHS
END:VEVENT
END:VCALENDAR