BEGIN:VCALENDAR
VERSION:2.0
PRODID:-//Stadtgeschichte München//DE
CALSCALE:GREGORIAN
BEGIN:VEVENT
UID:26876@stadtgeschichte-muenchen.de
SUMMARY:Nebenan und unverpackt im Münchner Westen
DESCRIPTION:&lt;p&gt;Unverpackt einkaufen - wie funktioniert das eigentlich? Woher kommen die Waren, und ist das überhaupt hygienisch und sinnvoll? Welche Vorteile hat eine Genossenschaft? Diese und viele weitere Fragen beantworten Stephan Hilper und Ingrid Hügenell von der Genossenschaft nebenan&amp;amp;unverpackt, die den gleichnamigen Laden in der Willibaldstraße im Jahr 2020 mitgegründet haben. Zunächst gibt es eine Führung durch das hübsch eingerichtete Geschäft mit Café, dann einen kleinen Imbiss mit Produkten aus dem Laden sowie einen kurzen Vortrag.&lt;/p&gt;
DTSTART:20251022T193000
DTEND:20251022T210000
LOCATION:Treffpunkt: vor dem Unverpackt-Laden Willibaldstr. 18
ORGANIZER:MVHS
END:VEVENT
END:VCALENDAR