BEGIN:VCALENDAR
VERSION:2.0
PRODID:-//Stadtgeschichte München//DE
CALSCALE:GREGORIAN
BEGIN:VEVENT
UID:26877@stadtgeschichte-muenchen.de
SUMMARY:Besuch der YOANDA Kaffeerösterei im Pasinger Viktualienmarkt
DESCRIPTION:&lt;p&gt;&quot;Unser Herz schlägt für qualitativ hochwertigen, nachhaltigen, fair gehandelten und inklusiv weiterverarbeiteten Kaffee&quot;. Bei YOANDA arbeiten Menschen mit und ohne Behinderung zusammen. Seit Juli 2023 hat YOANDA einen Coffeeshop am Brunnen des Pasinger Viktualienmarktes und genau dort wollen wir Sie in die Welt des Kaffees entführen. Woher kommen die Bohnen, welche Unterschiede gibt es? Wie wird geröstet? Welche Zubereitungsarten gibt es? Wie sieht die Kaffeeproduktion der Zukunft unter Klimaveränderung aus? Und als Höhepunkt laden wir Sie ein, alle Sinne im sogenannten &quot;Cupping&quot; bei einer Verkostung zu schärfen.&lt;/p&gt;
DTSTART:20260223T170000
DTEND:20260223T190000
LOCATION: vor der YOANDA Kaffeerösterei im Pasinger Viktualienmarkt Bäckerstr. 7
ORGANIZER:MVHS
END:VEVENT
END:VCALENDAR