BEGIN:VCALENDAR
VERSION:2.0
PRODID:-//Stadtgeschichte München//DE
CALSCALE:GREGORIAN
BEGIN:VEVENT
UID:26879@stadtgeschichte-muenchen.de
SUMMARY:Auf den Spuren Rilkes durch München
DESCRIPTION:&lt;p&gt;München war ein wichtiger Lebensmittelpunkt des Dichters Rainer Maria Rilke. 1896 begann er hier sein Studium; zwischen 1913 und 1919 machte er prägende Lebenserfahrungen an der Isar. Am 150. Todestag Rilkes führt der Stadtrundgang zu drei Wohnhäusern Rilkes, in den Englischen Garten und an die Isar. Rilke-Biograf Uwe Birnstein erzählt viele Hintergrundgeschichten und schildert besonders Rilkes spirituelle Seite.&lt;/p&gt;
DTSTART:20251204T100000
DTEND:20251204T123000
LOCATION:U-Bahn Universität/Brunnen vor dem Universitätsgebäude
ORGANIZER:MVHS
END:VEVENT
END:VCALENDAR