BEGIN:VCALENDAR
VERSION:2.0
PRODID:-//Stadtgeschichte München//DE
CALSCALE:GREGORIAN
BEGIN:VEVENT
UID:26883@stadtgeschichte-muenchen.de
SUMMARY:Landschaftliche Vielfalt im Münchner Norden: Biotope und Schutzgebiete
DESCRIPTION:&lt;p&gt;Im Norden Münchens finden sich Wälder, Wiesen, Heiden und Gewässer, die nicht nur für uns Menschen einen Besuch lohnen, sondern auch vielen Pflanzen und Tieren Heimat bieten. Herr Greßirer vom Bund Naturschutz in Bayern e. V. erklärt, was diese Gebiete auszeichnet und wie wir sie schützen können. Nach einem kurzen Überblick geht er insbesondere auf die Naturschutzgebiete Schwarzhölzl, Panzerwiese und Hartelholz, Allacher Lohe und Fröttmaninger Heide ein: wunderbare Ziele für Ihren nächsten Herbstspaziergang, in dem Sie die Natur mit anderen Augen sehen können. Im Dienstagsforum am Scheidplatz.&lt;/p&gt;
DTSTART:20250916T190000
DTEND:20250916T203000
LOCATION:MVHS am Scheidplatz Belgradstr. 108
ORGANIZER:MVHS
END:VEVENT
END:VCALENDAR