BEGIN:VCALENDAR
VERSION:2.0
PRODID:-//Stadtgeschichte München//DE
CALSCALE:GREGORIAN
BEGIN:VEVENT
UID:26885@stadtgeschichte-muenchen.de
SUMMARY:Ludwig I. von Bayern
DESCRIPTION:&lt;p&gt;Tiefe Gläubigkeit prägte lebenslang Ludwigs Wertesystem. Sein Glaube bildete für ihn keinen Gegensatz zu seinen Freiheitsidealen. Doch standen seine liberalen Ideen von Beginn an neben seinem Wunsch, die katholische Kirche zu fördern. Er wollte seit seinem Regierungsantritt 1825 Fortschritt und Tradition versöhnen. Doch seinen Zeitgenossen erschien dies als nicht lösbarer Widerspruch. Ludwigs Klostergründungen und seine katholische Politik stießen auf scharfen Widerspruch der Liberalen und die zunehmende Rekatholisierung Bayerns verärgerte die evangelischen Bürger im Königreich. 1848 trat der König zurück, weil er seine Politik nicht mehr durchsetzen konnte.&lt;/p&gt;
DTSTART:20251016T180000
DTEND:20251016T210000
LOCATION:Katholische Akademie, Mandelstraße 23
ORGANIZER:Katholische Akademie in Bayern
END:VEVENT
END:VCALENDAR