BEGIN:VCALENDAR
VERSION:2.0
PRODID:-//Stadtgeschichte München//DE
CALSCALE:GREGORIAN
BEGIN:VEVENT
UID:26889@stadtgeschichte-muenchen.de
SUMMARY:45 Jahre umkämpfte Erinnerung
DESCRIPTION:&lt;p&gt;Nach einem Impulsvortrag von Ezra Rudolph (Universität Göttingen) über die Überlebenden rechter Gewalt und ihren Kampf um Erinnerung folgt ein moderiertes Gespräch mit Überlebenden des Oktoberfest-Attentats und Laura Pulz, Leiterin der Fachstelle Demokratische Jugendbildung im Kreisjugendring München-Stadt (KJR). Der Abend wird mit einer Podiumsdiskussion mit Sonia Zanotti, dem Musiker und Autor David Mayonga alias Roger Rekless und Ezra Rudolph abgeschlossen. Die Diskussion wird von Sarah Bergh-Bieling moderiert.&lt;/p&gt;
DTSTART:20250926T180000
DTEND:20250926T193000
LOCATION:Alten Rathaus
ORGANIZER:Public History München
END:VEVENT
END:VCALENDAR