BEGIN:VCALENDAR
VERSION:2.0
PRODID:-//Stadtgeschichte München//DE
CALSCALE:GREGORIAN
BEGIN:VEVENT
UID:26893@stadtgeschichte-muenchen.de
SUMMARY:Passagen, Höfe und Gärten
DESCRIPTION:&lt;p&gt;Kreative Wege für Entdecker*innen führen zu einigen besonders schönen Orten. Wir besuchen historische und moderne Höfe, versteckte Gassen und Passagen in der Innenstadt. Neben bedeutenden Kunstwerken und außergewöhnlichen Architekturen finden wir grüne Oasen mitten in München. Uns begegnen Wirtshausgärten, Innenhöfe ehemaliger Adelspalais, innovative Passagen - mit verführerischen Geschäften - und vieles mehr.&lt;/p&gt;
DTSTART:20251010T163000
DTEND:20251010T183000
LOCATION:
ORGANIZER:MVHS
END:VEVENT
END:VCALENDAR