BEGIN:VCALENDAR
VERSION:2.0
PRODID:-//Stadtgeschichte München//DE
CALSCALE:GREGORIAN
BEGIN:VEVENT
UID:26902@stadtgeschichte-muenchen.de
SUMMARY:Herzogin Ludovika in Bayern (1808–1892) und ihre Familie
DESCRIPTION:
DTSTART:20251111T183000
DTEND:20251111T193000
LOCATION:Schönfeldstraße 5, Hörsaal EG
ORGANIZER:Bayerisches Hauptstaatsarchiv
END:VEVENT
END:VCALENDAR