BEGIN:VCALENDAR
VERSION:2.0
PRODID:-//Stadtgeschichte München//DE
CALSCALE:GREGORIAN
BEGIN:VEVENT
UID:26926@stadtgeschichte-muenchen.de
SUMMARY:Älteres Häuserbuch der Stadt München. Hausbesitz und Steuerleistung der Münchner Bürger 13
DESCRIPTION:&lt;p&gt;Der dritte Band der vom Stadtarchiv München herausgegebenen Reihe “Älteres Häuserbuch der Stadt München” von Dr. Helmuth Stahleder beleuchtet das westliche Graggenauer Viertel und dokumentiert den Hausbesitz sowie Steuerleistungen der dort lebenden Stadtbevölkerung von 1368 bis 1571. Er umfasst die Gebiete östliche Theatinerstraße, Schrammerstraße, Residenzstraße, Max-Joseph-Platz und Hofgraben.&lt;br&gt;Durch die Auswertung der überlieferten Steuer- und Gerichtsbücher erhalten Leser*innen Einblicke in die Lebensumstände und finanziellen Verhältnisse der Münchner Bürger und Einwohner. So wird das Alltagsleben im spätmittelalterlichen München lebendig und nachvollziehbar.&lt;/p&gt;
DTSTART:20251021T180000
DTEND:20251021T200000
LOCATION:Stadtarchiv, Winzererstraße 68, 80797 München, Rotunde
ORGANIZER:Stadtarchiv München
END:VEVENT
END:VCALENDAR