BEGIN:VCALENDAR
VERSION:2.0
PRODID:-//Stadtgeschichte München//DE
CALSCALE:GREGORIAN
BEGIN:VEVENT
UID:26938@stadtgeschichte-muenchen.de
SUMMARY:München gedenkt der schwulen und lesbischen NS-Opfer
DESCRIPTION:&lt;p&gt;Schwule und Lesben erlebten im Nationalsozialismus Ausgrenzung und Verfolgung. Wer sich verbergen konnte, sah, wie die Freunde ins Gefängnis oder ins KZ kamen. Tausende Männer und zahlreiche Frauen kamen dort aufgrund ihrer sexuellen Orientierung ums Leben. Einige entgingen der Verhaftung, ihnen gelang die Flucht ins Ausland.&lt;br&gt;Das Forum Queeres Archiv München stellt beim Gedenkakt am 20. Oktober Biografien von Lesben und Schwulen vor, die ins Exil entkommen konnten, z.B. von Anita Augspurg, Klaus und Erika Mann und Wilhelm Tag.&lt;br&gt;&amp;nbsp;&lt;/p&gt;&lt;p&gt;Im Anschluss an die Veranstaltung gedenken wir der Opfer bei einem Kerzenzug zum Sub. Dort besteht die Möglichkeit zu Gesprächen.&lt;/p&gt;
DTSTART:20251020T190000
DTEND:20251020T203000
LOCATION:Mahnmal/Bodendenkmal, Oberanger / Ecke Dultstraße, München
ORGANIZER:Forum Queeres Archiv München e.V.
END:VEVENT
END:VCALENDAR