BEGIN:VCALENDAR
VERSION:2.0
PRODID:-//Stadtgeschichte München//DE
CALSCALE:GREGORIAN
BEGIN:VEVENT
UID:26940@stadtgeschichte-muenchen.de
SUMMARY:Vernissage: GangArt – die Welt in Bewegung und Überlagerung
DESCRIPTION:&lt;p&gt;Wir und unsere Umwelt sind ständig in Bewegung. Unser Gehirn erkennt meist ein Muster und erzeugt trotzdem ein scharfes Bild. Durch Techniken wie Langzeitbelichtung und bewusste Kamerabewegung beim Fotografieren können wir Bewegung sichtbar machen. Auch die Überlagerung mehrerer Aufnahmen desselben bewegten Motivs zeigt Bewegung auf faszinierende Weise. In dieser Ausstellung zeigen Thomas Dürst und Nikolaus Röpfl statische Bilder, die Bewegung mit unterschiedlicher Herangehensweise sichtbar machen. Lassen Sie sich inspirieren!&lt;/p&gt;
DTSTART:20251030T190000
DTEND:20251030T210000
LOCATION:MVHS in Ramersdorf Claudius-Keller-Str. 7
ORGANIZER:MVHS
END:VEVENT
END:VCALENDAR