BEGIN:VCALENDAR
VERSION:2.0
PRODID:-//Stadtgeschichte München//DE
CALSCALE:GREGORIAN
BEGIN:VEVENT
UID:26946@stadtgeschichte-muenchen.de
SUMMARY:Erinnerungszeichen für Georg Bautler
DESCRIPTION:&lt;p&gt;16.00 Uhr Gedenkveranstaltung&amp;nbsp;&lt;br&gt;Zentrale des Goethe-Instituts, Oskar-von-Miller-Ring 18 Bus: Oskar-von-Miller-Ring Anmeldung erforderlich unter erinnerungszeichen@muenchen.de • Rebecca Cordes, Kaufmännische Direktorin (Interim) des Goethe-Instituts&amp;nbsp;&lt;br&gt;• Stadtrat Sebastian Schall in Vertretung des Oberbürgermeisters der Landeshauptstadt München&amp;nbsp;&lt;br&gt;• Dr. h.c. mult. Charlotte Knobloch, Präsidentin der Israelitischen Kultusgemeinde München und Oberbayern&amp;nbsp;&lt;br&gt;• Stefan Dickas, Vorsitzender der ErinnerungsWerkstatt München e.V.&amp;nbsp;&lt;br&gt;• Sonja Schneidinger spricht für die Angehörigen&amp;nbsp;&lt;br&gt;• Stefan Dickas verliest die Biografie von Georg Bautler&amp;nbsp;&lt;br&gt;• Dr. Svenja Jarchow, Bezirksausschuss 3 – Maxvorstadt&amp;nbsp;&lt;/p&gt;&lt;p&gt;17.00 Uhr Anbringung des Erinnerungszeichens für Georg Bautler am ehemaligen Wohnort am Oskar-von-Miller-Ring 18 (früher Glückstraße 19)&amp;nbsp;&lt;/p&gt;&lt;p&gt;ca. 17.30 Uhr Anbringung des Erinnerungszeichens für Franz Fellner am ehemaligen Wohnort in der Barer Straße 86 • Dr. Eva Strauß verliest die Biografie&lt;/p&gt;
DTSTART:20251021T160000
DTEND:20251021T180000
LOCATION:Zentrale des Goethe-Instituts, Oskar-von-Miller-Ring 18
ORGANIZER:Public History München
END:VEVENT
END:VCALENDAR