BEGIN:VCALENDAR
VERSION:2.0
PRODID:-//Stadtgeschichte München//DE
CALSCALE:GREGORIAN
BEGIN:VEVENT
UID:26950@stadtgeschichte-muenchen.de
SUMMARY:Führung durch den neuen Gasteig HP8
DESCRIPTION:&lt;p&gt;Das neue HP8 mit der Isarphilharmonie bietet eine beeindruckende Symbiose aus Alt und Neu. Im Herbst 2021 ist der Gasteig nach Sendling gezogen. Bleibt er dort tatsächlich nur eine Interimsunterbringung? In einem spannenden Umfeld und außergewöhnlicher Architektur sind nun Stadtbibliothek, Philharmonie und weitere Kultureinrichtungen beheimatet. Bei diesem exklusiven Rundgang haben Sie die Möglichkeit hinter die Kulissen zu blicken und Europas größtes Kulturzentrum in allen Facetten kennenzulernen.&lt;/p&gt;&lt;p&gt;Hinweis: Durch Veranstaltungen bzw. Proben ist nicht gewährleistet, dass alle Räume zugänglich sind. Wir treffen uns in der Halle beim Ticketschalter.&lt;/p&gt;
DTSTART:20251114T140000
DTEND:20251114T153000
LOCATION:Gasteig HP8, Hans-Preißinger-Str. 8
ORGANIZER:VHS Puchheim-Eichenau
END:VEVENT
END:VCALENDAR