BEGIN:VCALENDAR
VERSION:2.0
PRODID:-//Stadtgeschichte München//DE
CALSCALE:GREGORIAN
BEGIN:VEVENT
UID:26957@stadtgeschichte-muenchen.de
SUMMARY:GastSpiel - Münchner Kultur vor Ort: Familienkonzert der Münchner Philharmoniker
DESCRIPTION:&lt;p&gt;Mitglieder der Münchner Philharmoniker spielen für ihre jüngsten Zuhörenden.&lt;/p&gt;&lt;p&gt;Der große, starke Kontrabass spielt, wie soll es anders sein, einen großen, starken Elefanten. Er liebt es zu musizieren und geht gerne spazieren. Auf seinem Weg trifft er einen Vogel. Trotz der offensichtlichen Unterschiede dieser beiden Tiere und Instrumente verbindet sie eines: die Liebe zur Musik. Sie entdecken, dass es viel schöner ist gemeinsam zu musizieren statt allein. Aber wer stört denn da noch das Konzert? Ist es wohl doch besser, alleine zu musizieren?&lt;/p&gt;
DTSTART:20251110T153000
DTEND:20251110T163000
LOCATION:Stadtbibliothek Hasenbergl; Veranstaltungssaal Blodigstr. 4
ORGANIZER:MVHS
END:VEVENT
END:VCALENDAR