BEGIN:VCALENDAR
VERSION:2.0
PRODID:-//Stadtgeschichte München//DE
CALSCALE:GREGORIAN
BEGIN:VEVENT
UID:26961@stadtgeschichte-muenchen.de
SUMMARY:Die Architektur des zukünftigen Münchner Stadtmuseums
DESCRIPTION:&lt;p&gt;Zusammen mit Architekt*innen des Architekturbüros Auer Weber, das 2015 den Wettbewerb für Generalsanierung, Umbau und Neukonzeption des Museums für sich entscheiden konnte, unternehmen wir eine Info-Tour rund um das Museum. Welche wesentlichen Veränderungen wird es geben? Was ist die zentrale Idee hinter dem Entwurf? Wie plant man einen modernen Museumsbau der Zukunft und was sind dabei die Herausforderungen? Erfahren Sie aus architektonischer und musealer Sicht mehr zu den Plänen und kommen Sie mit uns ins Gespräch!&lt;/p&gt;
DTSTART:20251114T170000
DTEND:20251114T170000
LOCATION:Eingang Oberanger am Eisentor
ORGANIZER:Münchner Stadtmuseum
END:VEVENT
END:VCALENDAR