BEGIN:VCALENDAR
VERSION:2.0
PRODID:-//Stadtgeschichte München//DE
CALSCALE:GREGORIAN
BEGIN:VEVENT
UID:26970@stadtgeschichte-muenchen.de
SUMMARY:Für Ruth
DESCRIPTION:&lt;p&gt;Schüler:innen tragen ihre Gedichte zu den Themen Stolpersteine, Holocaust und Widerstand vor.&lt;/p&gt;&lt;p&gt;Mit dem Film &quot;Gedenken jung gedacht und gemacht&quot;&lt;/p&gt;&lt;p&gt;Mit dem Verein J.E.W.S. Jews Engaged with Society e.V. und Unterstützung vom Bezirksauschuß Untergiesing-Harlaching&lt;/p&gt;
DTSTART:20251125T180000
DTEND:20251125T193000
LOCATION:Kirche St. Helena, Fromundstraße 2
ORGANIZER:Stolpersteine Initiative für München e.V.
END:VEVENT
END:VCALENDAR