BEGIN:VCALENDAR
VERSION:2.0
PRODID:-//Stadtgeschichte München//DE
CALSCALE:GREGORIAN
BEGIN:VEVENT
UID:26971@stadtgeschichte-muenchen.de
SUMMARY:Democracy Slam!
DESCRIPTION:&lt;p&gt;Junge Dichter:innen aus Deutschland, Finnland, Irland u. a tragen ihre Gedichte zu den Themen Stolpersteine, Holocaust, Widerstand und Zivilcourage vor.&lt;/p&gt;&lt;p&gt;Teil des Projekts &quot;In eigenen Worten - die Weiße Rose und junge Poesie&quot;&lt;/p&gt;&lt;p&gt;Eine Kooperation von J.E.W.S. Jews Engaged with Society e.V. und der Denkstätte Weiße Rose&lt;/p&gt;&lt;p&gt;&lt;br&gt;&amp;nbsp;&lt;/p&gt;
DTSTART:20251212T150000
DTEND:20251212T160000
LOCATION:Bellevue di Monaco, Müllerstraße 2
ORGANIZER:Stolpersteine Initiative für München e.V.
END:VEVENT
END:VCALENDAR