BEGIN:VCALENDAR
VERSION:2.0
PRODID:-//Stadtgeschichte München//DE
CALSCALE:GREGORIAN
BEGIN:VEVENT
UID:26976@stadtgeschichte-muenchen.de
SUMMARY:September 5 -  im Kunstforum
DESCRIPTION:&lt;p&gt;Regisseur Tim Fehlbaum erzählt in seinem preisgekrönten, kammerspielartigen Thriller „September 5“ packend und intensiv von dem Terroranschlag auf die israelische Mannschaft durch palästinensische Terroristen. Die Handlung wird konsequent aus der Perspektive eines amerikanischen Sportfernsehteams geschildert, das an diesem schicksalhaften Tag von Sportberichterstattung zu politischen Nachrichten wechseln muss. Der Film wirft dabei auch grundlegende Fragen zur moralischen Verantwortung der Medien auf.&lt;/p&gt;&lt;p&gt;&lt;br&gt;&amp;nbsp;&lt;/p&gt;
DTSTART:20251114T190000
DTEND:20251114T203000
LOCATION:Kunstforum Arabellapark Rosenkavalierplatz 16
ORGANIZER:MVHS
END:VEVENT
END:VCALENDAR