BEGIN:VCALENDAR
VERSION:2.0
PRODID:-//Stadtgeschichte München//DE
CALSCALE:GREGORIAN
BEGIN:VEVENT
UID:26979@stadtgeschichte-muenchen.de
SUMMARY: Christian Sepp präsentiert »Caroline«
DESCRIPTION:&lt;p&gt;Christian Sepp stellt sein Buch »Caroline – Bayerns erste Königin« vor, die erste Biografie über Königin Caroline von Bayern (1776–1841). Sie basiert auf über 500 wiederentdeckten Briefen, die jahrzehntelang vergessen auf Schloss Tegernsee lagerten. Die erste protestantische Königin Bayerns wurde zur Symbolfigur der Toleranzpolitik – nun wird sie durch diese außergewöhnliche Quellenentdeckung zurück ins Licht der Geschichte geholt.&lt;/p&gt;
DTSTART:20251202T170000
DTEND:20251202T183000
LOCATION:Bayerisches Hauptstaatsarchiv,  Schönfeldstraße 5
ORGANIZER:Allitera Verlag
END:VEVENT
END:VCALENDAR