BEGIN:VCALENDAR
VERSION:2.0
PRODID:-//Stadtgeschichte München//DE
CALSCALE:GREGORIAN
BEGIN:VEVENT
UID:26980@stadtgeschichte-muenchen.de
SUMMARY: Dietlind Pedarnig präsentiert   »Obacht, Bayern!«
DESCRIPTION:&lt;p&gt;Dietlind Pedarnig stellt »Obacht Bayern« vor: historische Humorpostkarten und die Geschichte bayerischer Klischees. Von 1870 bis 1945 verdienten Verlage prächtig mit Darstellungen des biertrinkenden, schuhplattelnden Bayern – so entstand das bis heute stabile Bayern-Bild. Der Band zeigt, wie verstörend die »Mia san Mia«-Mentalität wirkt, wenn sie das Fremde ausgrenzt und zum Feindbild erklärt.&lt;/p&gt;
DTSTART:20251210T193000
DTEND:20251210T210000
LOCATION:Seidlvilla, Kulturzentrum,  Nikolaiplatz 1B
ORGANIZER:Allitera Verlag
END:VEVENT
END:VCALENDAR