BEGIN:VCALENDAR
VERSION:2.0
PRODID:-//Stadtgeschichte München//DE
CALSCALE:GREGORIAN
BEGIN:VEVENT
UID:26981@stadtgeschichte-muenchen.de
SUMMARY:Die Kampfstätten der Gladiatoren im Römischen Reich – Architektur und Funktion
DESCRIPTION:&lt;p&gt;Dr. Rüdiger Gogräfe, Institut für Bauforschung und Dokumentation (IBD) in Marburg&lt;/p&gt;&lt;p&gt;Anhand ausgewählter Beispiele wird ein Überblick verschiedenartiger Spielstätten der Gladiatorenkämpfe im Römischen Reich gegeben. Skizziert wird die Entwicklung von den einfachen republikanischen Amphitheatern Italiens hin zu den technisch fortschrittlicheren der Kaiserzeit, erläutert am maßgebenden Kolosseum in Rom. Abgerundet wird der Vortrag mit einem Blick auf weitere Spielstätten verschiedener Provinzen, welche die unterschied-lichen regionalen und kulturellen Charakteristika ihrer Regionen veranschaulichen.&lt;/p&gt;
DTSTART:20251204T180000
DTEND:20251204T193000
LOCATION:Archäologische Staatssammlung, Lerchenfeldstr. 2
ORGANIZER:Archäologische Staatssammlung München
END:VEVENT
END:VCALENDAR